BEGIN:VCALENDAR
VERSION:2.0
PRODID:-//ChamberMaster//Event Calendar 2.0//EN
METHOD:PUBLISH
X-PUBLISHED-TTL:P3D
REFRESH-INTERVAL:P3D
CALSCALE:GREGORIAN
BEGIN:VEVENT
DTSTART;VALUE=DATE:20211102
DTEND;VALUE=DATE:20211105
TRANSP:TRANSPARENT
X-MICROSOFT-CDO-ALLDAYEVENT:TRUE
SUMMARY:SACC Summit 2021
DESCRIPTION:SACC Summit 2021 will look into the future\n \n\nThe annual SACC Summit is a catalyst for future business success. This year we bring together high level decision makers\, industry leaders\, academics\, and members from our 19 chambers\, in Phoenix\, Arizona\, 2-4 November (with an internal meeting for SACC members only in the afternoon on Monday November 1).\n \n\nDue to lingering travel restrictions and uncertainties\, the speaker portions of the Summit will be available virtually. For in-person attendees\, there will be extra side events and plenty of networking opportunities.\n\n\nThe Summit will cover these topics:\n\n-- Connectivity: Expansion and innovation in connectivity is expected to change our lives\, and industry players are racing to deliver pervasive and seamless technologies in areas such as high-speed mobile broadband and Internet of Things.\n-- Mobility: The entire way we travel from point A to point B for work or play is changing. This shift will impact more than just automakers and logistics companies. Many industries are evaluating how their services will change\, and how they can create value in this changing market.\n\n-- Workforce: With innovation\, connectivity\, and distributed workforce\, the workplace is no longer always a central location. New technologies as AI and robotics change what humans can and will do in the workplace.\n \n\nAmong the speakers you'll find: \n\n\n	H.E. Karin Olofsdotter. Ambassador of Sweden to the U.S.\n	Gregor Hembrough. Head of Polestar USA\n	Niklas Reinedahl. GM Einride North America\n	Robert Strand. Executive Director\, Center for Responsible Business at University of California\, Berkeley Haas School of Business\n	Mats Andersson. CEO and founder of MUMIMO\n	Hans Amell. CEO of DragonWaveX\n	Caroline Decker. VP Federal Government Affairs\, WSP USA\n\n\nBONUS:  For the first time\, the SACC Summit will feature top-notch Swedish contemporary music artists in the Swedish Music Showcase.\n\n\nMore information and tickets here: https://www.saccarizona.org/saccsummit2021
X-ALT-DESC;FMTTYPE=text/html:<div class="default-style" style="color: rgb(0\, 0\, 0)\; font-family: -apple-system\, system-ui\, &quot\;Helvetica Neue&quot\;\, &quot\;Segoe UI&quot\;\, Arial\, sans-serif\;">\n<div><em><strong>SACC Summit 2021 will look into the future</strong></em></div>\n&nbsp\;\n\n<div>The annual SACC Summit is a catalyst for future business success. This year we bring together high level decision makers\, industry leaders\, academics\, and members from our 19 chambers\, in Phoenix\, Arizona\, 2-4 November (with an internal meeting for SACC members only in the afternoon on Monday November 1).</div>\n&nbsp\;\n\n<div>Due to lingering travel restrictions and uncertainties\, the speaker portions of the Summit will be available virtually. For in-person attendees\, there will be extra side events and plenty of networking opportunities.</div>\n<br />\nThe Summit will cover these topics:<br />\n-- Connectivity: Expansion and innovation in connectivity is expected to change our lives\, and industry players are racing to deliver pervasive and seamless technologies in areas such as high-speed mobile broadband and Internet of Things.\n<div>-- Mobility: The entire way we travel from point A to point B for work or play is changing. This shift will impact more than just automakers and logistics companies. Many industries are evaluating how their services will change\, and how they can create value in this changing market.</div>\n\n<div>-- Workforce: With innovation\, connectivity\, and distributed workforce\, the workplace is no longer always a central location. New technologies as AI and robotics change what humans can and will do in the workplace.</div>\n&nbsp\;\n\n<div>Among the speakers you&#39\;ll find:&nbsp\;</div>\n\n<ul style="padding-right: 0px\; padding-left: 16px\; margin: 1em 0px 1em 24px\;">\n	<li style="line-height: normal\; margin-bottom: 0.5em\;">H.E. Karin Olofsdotter. Ambassador of Sweden to the U.S.</li>\n	<li style="line-height: normal\; margin-bottom: 0.5em\;">Gregor Hembrough. Head of Polestar USA</li>\n	<li style="line-height: normal\; margin-bottom: 0.5em\;">Niklas Reinedahl. GM Einride North America</li>\n	<li style="line-height: normal\; margin-bottom: 0.5em\;">Robert Strand. Executive Director\, Center for Responsible Business at University of California\, Berkeley Haas School of Business</li>\n	<li style="line-height: normal\; margin-bottom: 0.5em\;">Mats Andersson. CEO and founder of MUMIMO</li>\n	<li style="line-height: normal\; margin-bottom: 0.5em\;">Hans Amell. CEO of DragonWaveX</li>\n	<li style="line-height: normal\; margin-bottom: 0.5em\;">Caroline Decker. VP Federal Government Affairs\, WSP USA</li>\n</ul>\n\n<div>BONUS:&nbsp\; For the first time\, the SACC Summit will feature top-notch Swedish contemporary music artists in the Swedish Music Showcase.</div>\n<br />\nMore information and tickets here:&nbsp\;<a href="https://www.saccarizona.org/saccsummit2021" rel="noopener" style="word-break: break-word\; color: rgb(60\, 97\, 170)\;" target="_blank">https://www.saccarizona.org/saccsummit2021</a>&nbsp\;</div>\n
LOCATION:
UID:e.1936.4757
SEQUENCE:3
DTSTAMP:20260421T070101Z
URL:http://sacctx.chambermaster.com/events/details/sacc-summit-2021-4757
END:VEVENT

END:VCALENDAR
